Workbook

Sheet Original Data
B1: Index | C1: Best | D1: Albania | E1: Bulgaria | F1: Croatia | G1: Czech Republic | H1: Estonia | I1: Georgia | J1: Hungary | K1: Latvia | L1: Lithuania | M1: Moldova | N1: Montenegro | O1: North Macedonia | P1: Poland | Q1: Romania | R1: Slovakia | S1: Slovenia | T1: Ukraine | U1: Min | V1: Max | W1: Best green | X1: Worst red
A2: Economic complexity | B2: Economic Complexity Index | C2: higher | D2: 0 | E2: 0.84831722 | F2: 1.0021856 | G2: 1.9812445 | H2: 1.2216464 | I2: 0.28622006 | J2: 1.7550953 | K2: 0.9627936 | L2: 1.1218292 | M2: 0.25205316 | N2: 0 | O2: 0.36324465 | P2: 1.2478992 | Q2: 1.4568358 | R2: 1.6943072 | S2: 1.8227427 | T2: 0.55513027 | U2: =MIN(D2:T2) -> 0 | V2: =MAX(D2:T2) -> 1.9812445
B3: Market concentration HH Market concentration index | C3: lower | D3: 0.21 | E3: 0.05 | F3: 0.06 | G3: 0.11 | H3: 0.06 | I3: 0.09 | J3: 0.09 | K3: 0.06 | L3: 0.04 | M3: 0.1 | N3: 0.06 | O3: 0.19 | P3: 0.09 | Q3: 0.07 | R3: 0.07 | S3: 0.07 | T3: 0.04 | U3: =MIN(D3:T3) -> 0.04 | V3: =MAX(D3:T3) -> 0.21
A4: Foreign trade vulnerabilities | B4: Export partner concentration - main three leading destination markets for commodity exports as share of commodity exports (percentage) | C4: lower | D4: 0.21270561 | E4: 0.081261498 | F4: 0.060593769 | G4: 0.11624883 | H4: 0.10425636 | I4: 0.23021049 | J4: 0.10035129 | K4: 0.084757453 | L4: 0.088455967 | M4: 0.17372954 | N4: 0.2179448 | O4: 0.24471275 | P4: 0.062181286 | Q4: 0.098619861 | R4: 0.22927902 | S4: 0.14206168 | T4: 0.16668617 | U4: =MIN(D4:T4) -> 0.060593769 | V4: =MAX(D4:T4) -> 0.24471275
B5: Import partner concentration main three trading partners for commodity imports as share of commodity imports | C5: lower | D5: 0.071839784 | E5: 0.062177556 | F5: 0.054382879 | G5: 0.076444165 | H5: 0.079423112 | I5: 0.11122044 | J5: 0.070248666 | K5: 0.076252479 | L5: 0.078750715 | M5: 0.079426786 | N5: 0.072467189 | O5: 0.11675507 | P5: 0.046875534 | Q5: 0.050356184 | R5: 0.10834666 | S5: 0.15370587 | T5: 0.079180058 | U5: =MIN(D5:T5) -> 0.046875534 | V5: =MAX(D5:T5) -> 0.15370587
B6: Exports to Russian federation as % of total exports 2021 | C6: Lower | D6: 0.0031726718 | E6: 1.2479651 | F6: 1.1090091 | G6: 1.9020218 | H6: 6.3933604 | I6: 14.379211 | J6: 1.4647367 | K6: 7.2764982 | L6: 10.850436 | M6: 8.77935 | N6: 0.53628931 | O6: 0.69799004 | P6: 2.7654184 | Q6: 1.3691435 | R6: 1.5110583 | S6: 2.1650715 | T6: 5.0844171 | U6: =MIN(D6:T6) -> 0.0031726718 | V6: =MAX(D6:T6) -> 14.379211
B7: Imports from Russian federation 2021 | C7: Lower | D7: 1.8778977 | E7: 7.5954082 | F7: 1.6325761 | G7: 3.2939276 | H7: 11.458163 | I7: 10.130756 | J7: 3.0686271 | K7: 9.0780951 | L7: 11.935534 | M7: 14.685232 | N7: 0.42351633 | O7: 1.5485037 | P7: 5.9961841 | Q7: 4.8311594 | R7: 6.2649817 | S7: 0.9611302 | T7: 8.361717 | U7: =MIN(D7:T7) -> 0.42351633 | V7: =MAX(D7:T7) -> 14.685232
B8: Trade balance as % of GDP | C8: higher | D8: 14.43 | E8: 30.04 | F8: 27.14 | G8: 31.21 | H8: 28.59 | I8: 11.2 | J8: 29.02 | K8: 26.18 | L8: 32.48 | M8: 0 | N8: 6.7 | O8: 12.24 | P8: 32.83 | Q8: 22.55 | R8: 29 | S8: 34.01 | T8: 25.67 | U8: =MIN(D8:T8) -> 0 | V8: =MAX(D8:T8) -> 34.01
B9: Trade balance, as % of imports | C9: higher | D9: 16.85 | E9: 49.91 | F9: 45.04 | G9: 51.34 | H9: 47.49 | I9: 19.01 | J9: 48.02 | K9: 43.94 | L9: 52.59 | M9: 0 | N9: 13.49 | O9: 27.24 | P9: 55.08 | Q9: 34.91 | R9: 47.88 | S9: 54.24 | T9: 44.28 | U9: =MIN(D9:T9) -> 0 | V9: =MAX(D9:T9) -> 55.08
A10: Foreign trade dependence | B10: Export of high-tech goods, compared to overall exports, %, 2021 | C10: high | D10: 0.2858545 | E10: 11.295053 | F10: 9.6800366 | G10: 22.579325 | H10: 19.03484 | I10: 2.2498385 | J10: 17.425738 | K10: 20.035906 | L10: 12.008765 | M10: 2.2390864 | N10: 7.5730284 | O10: 4.181045 | P10: 9.8641673 | Q10: 11.937033 | R10: 9.9973157 | S10: 7.7983233 | T10: 5.8523499 | U10: =MIN(D10:T10) -> 0.2858545 | V10: =MAX(D10:T10) -> 22.579325
B11: Food imports as % of total imports | C11: lower | D11: 15.026757 | E11: 9.117067 | F11: 11.281825 | G11: 4.8567579 | H11: 8.684979 | I11: 10.889743 | J11: 5.1553669 | K11: 11.783883 | L11: 9.1069758 | M11: 11.601752 | N11: 20.072948 | O11: 8.5864493 | P11: 7.5576228 | Q11: 8.892367 | R11: 5.1274538 | S11: 4.8691754 | T11: 8.7552267 | U11: =MIN(D11:T11) -> 4.8567579 | V11: =MAX(D11:T11) -> 20.072948
B12: Fuel imports as % of total imports | C12: lower | D12: 10.841027 | E12: 11.434773 | F12: 13.591754 | G12: 5.6878283 | H12: 12.887138 | I12: 13.09403 | J12: 8.9990832 | K12: 10.305211 | L12: 16.490343 | M12: 14.9411 | N12: 11.372315 | O12: 10.570518 | P12: 6.2474738 | Q12: 7.526639 | R12: 8.5423725 | S12: 6.3634415 | T12: 17.838778 | U12: =MIN(D12:T12) -> 5.6878283 | V12: =MAX(D12:T12) -> 17.838778
B13: Manufactures goods imports as % of total imports | C13: lower | D13: 67.511074 | E13: 62.637368 | F13: 68.374141 | G13: 83.788951 | H13: 64.736787 | I13: 64.239965 | J13: 78.865947 | K13: 61.51417 | L13: 63.992563 | M13: 68.576504 | N13: 61.948489 | O13: 63.649922 | P13: 77.600825 | Q13: 77.553776 | R13: 80.528838 | S13: 66.498069 | T13: 68.038547 | U13: =MIN(D13:T13) -> 61.51417 | V13: =MAX(D13:T13) -> 83.788951
B14: Electronic excluding parts and components imports as % of total imports | C14: lower | D14: 2.853449 | E14: 2.9913956 | F14: 3.2001384 | G14: 7.4685089 | H14: 2.8611721 | I14: 3.316429 | J14: 3.9508659 | K14: 3.9877355 | L14: 3.2251209 | M14: 3.3025913 | N14: 2.9598013 | O14: 2.0609623 | P14: 3.7356442 | Q14: 3.0484298 | R14: 4.3764969 | S14: 2.0529699 | T14: 3.452085 | U14: =MIN(D14:T14) -> 2.0529699 | V14: =MAX(D14:T14) -> 7.4685089
B15: Parts and components for electrical and electronic goods imports as % of total imports | C15: lower | D15: 2.6157639 | E15: 5.923084 | F15: 3.9559638 | G15: 13.46178 | H15: 7.3751511 | I15: 3.0831831 | J15: 13.654252 | K15: 5.9496366 | L15: 4.2921739 | M15: 3.7281349 | N15: 2.7398729 | O15: 5.2722588 | P15: 7.9339744 | Q15: 8.1081272 | R15: 11.02346 | S15: 3.5740524 | T15: 4.5530811 | U15: =MIN(D15:T15) -> 2.6157639 | V15: =MAX(D15:T15) -> 13.654252
B16: Iron and steel imports as % of total imports | C16: lower | D16: 2.6830626 | E16: 4.5184393 | F16: 3.5693796 | G16: 4.4462958 | H16: 3.8098371 | I16: 3.8045154 | J16: 3.0785561 | K16: 4.3226654 | L16: 3.3611535 | M16: 2.4645279 | N16: 3.0489075 | O16: 5.6252608 | P16: 5.0589913 | Q16: 4.616026 | R16: 4.0397252 | S16: 3.7720541 | T16: 2.3693995 | U16: =MIN(D16:T16) -> 2.3693995 | V16: =MAX(D16:T16) -> 5.6252608
B17: Trade balance in basic food as a ratio to total imports, 2017-2021, percentage | C17: high | D17: 11 | E17: 20.8 | F17: 13.3 | G17: 15.7 | H17: 15.7 | I17: 10.1 | J17: 19.6 | K17: 17.4 | L17: 19.6 | M17: 22.4 | N17: 0 | O17: 12.3 | P17: 19.7 | Q17: 15.6 | R17: 15.1 | S17: 14.6 | T17: 44.9 | U17: =MIN(D17:T17) -> 0 | V17: =MAX(D17:T17) -> 44.9
A18: Energy dependence | B18: Energy dependency as net energy imports as % of energy use | C18: lower | D18: 13.8 | E18: 37.9 | F18: 53.6 | G18: 38.9 | H18: 10.6 | I18: 68.752049 | J18: 56.6 | K18: 45.5 | L18: 74.9 | M18: 90 | N18: 28 | O18: 52 | P18: 42.8 | Q18: 28.2 | R18: 56.3 | S18: 45.8 | T18: 27 | U18: =MIN(D18:T18) -> 10.6 | V18: =MAX(D18:T18) -> 90
B19: Oil reserves billion barrels, 2021 | C19: higher | D19: 0.15 | E19: 0.02 | F19: 0.07 | G19: 0.02 | H19: 0 | I19: 0 | J19: 0.01 | K19: 0 | L19: 0.01 | M19: 0 | N19: 0 | O19: 0 | P19: 0.11 | Q19: 0.6 | R19: 0.01 | S19: 0 | T19: 0.4 | U19: =MIN(D19:T19) -> 0 | V19: =MAX(D19:T19) -> 0.6
B20: Oil production/oil consumption, percentage | C20: higher | D20: 55.555556 | E20: 1.1904762 | F20: 15.685714 | G20: 0.765 | H20: 0 | I20: =0.28/20*100 -> 1.4 | J20: 12.324138 | K20: 0 | L20: 1.2962963 | M20: 0 | N20: 0 | O20: 0 | P20: 3.3893281 | Q20: 31.916667 | R20: 0.054054054 | S20: 0 | T20: =6.67/257*100 -> 2.5953307 | U20: =MIN(D20:T20) -> 0 | V20: =MAX(D20:T20) -> 55.555556
B21: Fossil fuels electricity capacity, million kilowatts, 2021 | C21: higher | D21: 0.2 | E21: 3.81 | F21: 1.54 | G21: 12.38 | H21: 2.21 | I21: 0.99 | J21: 6.15 | K21: 1.27 | L21: 1.89 | M21: 0.68 | N21: 0.23 | O21: 1.11 | P21: 36.72 | Q21: 5.13 | R21: 2.65 | S21: 1.52 | T21: 28.66 | U21: =MIN(D21:T21) -> 0.2 | V21: =MAX(D21:T21) -> 36.72
B22: Wind electricity capacity, million kilowatts, 2021 | C22: higher | D22: 0 | E22: 0.71 | F22: 0.99 | G22: 0.34 | H22: 0.32 | I22: 0.02 | J22: 0.032 | K22: 0.08 | L22: 0.67 | M22: 0.05 | N22: 0.12 | O22: 0.04 | P22: 6.96 | Q22: 3.01 | R22: 0 | S22: 0 | T22: 1.76 | U22: =MIN(D22:T22) -> 0 | V22: =MAX(D22:T22) -> 6.96
B23: Solar electricity capacity, million kilowatts, 2021 | C23: higher | D23: 0.03 | E23: 1.19 | F23: 0.11 | G23: 2.12 | H23: 0.41 | I23: 0 | J23: 2.13 | K23: 0.01 | L23: 0.25 | M23: 0.01 | N23: 0.01 | O23: 0.09 | P23: 7.67 | Q23: 1.4 | R23: 0.54 | S23: 0.38 | T23: 8.06 | U23: =MIN(D23:T23) -> 0 | V23: =MAX(D23:T23) -> 8.06
B24: Hydroelectricity capacity, million kilowatts, 2021 | C24: higher | D24: 2.39 | E24: 1.73 | F24: 1.87 | G24: 1.11 | H24: 0 | I24: 3.46 | J24: 0.06 | K24: 1.59 | L24: 0.13 | M24: 0.08 | N24: 0.65 | O24: 0.64 | P24: 0.61 | Q24: 6.22 | R24: 1.51 | S24: 1.12 | T24: 4.43 | U24: =MIN(D24:T24) -> 0 | V24: =MAX(D24:T24) -> 6.22
B25: Nuclear electricity capacity, million kilowatts, 2021 | C25: higher | D25: 0 | E25: 2.01 | F25: 0 | G25: 3.93 | H25: 0 | I25: 0 | J25: 1.92 | K25: 0 | L25: 0 | M25: 0 | N25: 0 | O25: 0 | P25: 0 | Q25: 1.3 | R25: 1.87 | S25: 0.69 | T25: 13.11 | U25: =MIN(D25:T25) -> 0 | V25: =MAX(D25:T25) -> 13.11
B26: Geothermal electricity capacity, million kilowatts, 2021 | C26: higher | D26: 0 | E26: 0 | F26: 0.01 | G26: 0 | H26: 0 | I26: 0 | J26: 0 | K26: 0 | L26: 0 | M26: 0 | N26: 0 | O26: 0 | P26: 0 | Q26: 0 | R26: 0 | S26: 0 | T26: 0 | U26: =MIN(D26:T26) -> 0 | V26: =MAX(D26:T26) -> 0.01
A27: Economic openess | B27: Ratio of international trade to GDP | C27: Lower | D27: 37.463435 | E27: 68.543495 | F27: 60.647503 | G27: 74.839285 | H27: 85.501822 | I27: 52.898197 | J27: 90.377837 | K27: 70.341209 | L27: 87.56113 | M27: 40.88233 | N27: 52.681213 | O27: 74.894572 | P27: 61.718277 | Q27: 42.53707 | R27: 99.064425 | S27: 90.380292 | T27: 35.456619 | U27: =MIN(D27:T27) -> 35.456619 | V27: =MAX(D27:T27) -> 99.064425
B28: Exports as % to GDP | C28: lower | D28: 30.62 | E28: 61.33 | F28: 51.28 | G28: 72.73 | H28: 78.3 | I28: 43.19 | J28: 81.55 | K28: 63.47 | L28: 80.49 | M28: 30.62 | N28: 42.83 | O28: 66.21 | P28: 57.91 | Q28: 40.85 | R28: 93.8 | S28: 83.63 | T28: 40.75 | U28: =MIN(D28:T28) -> 30.62 | V28: =MAX(D28:T28) -> 93.8
B29: Imports as % GDP | C29: lower | D29: 43.91 | E29: 59.65 | F29: 52.75 | G29: 69.77 | H29: 78.66 | I29: 59.63 | J29: 81.24 | K29: 66.9 | L29: 75.97 | M29: 57.99 | N29: 62.2 | O29: 82.25 | P29: 54.53 | Q29: 46.51 | R29: 94.03 | S29: 77.29 | T29: 41.87 | U29: =MIN(D29:T29) -> 41.87 | V29: =MAX(D29:T29) -> 94.03
B30: FDI % of GDP | C30: higher | D30: 6.68 | E30: 2.53 | F30: 6.76 | G30: 2.7 | H30: 19.79 | I30: 6.8 | J30: 16.14 | K30: 9.34 | L30: 4.43 | M30: 2.86 | N30: 11.84 | O30: 5.04 | P30: 5.46 | Q30: 4.13 | R30: 0.83 | S30: 3.48 | T30: 3.98 | U30: =MIN(D30:T30) -> 0.83 | V30: =MAX(D30:T30) -> 19.79
B31: Logistic performance index quality of trade and transport related infrastructure | C31: Higher | D31: 2.7 | E31: 3.1 | F31: 3 | G31: 3 | H31: 3.5 | I31: 2.3 | J31: 3.1 | K31: 3.3 | L31: 3.5 | M31: 1.9 | N31: 2.5 | O31: 3 | P31: 3.5 | Q31: 2.9 | R31: 3.3 | S31: 3.6 | T31: 2.4 | U31: =MIN(D31:T31) -> 1.9 | V31: =MAX(D31:T31) -> 3.6
B32: Competence and quality of logistic services 2022 | C32: Higher | D32: 2.3 | E32: 3.3 | F32: 3.4 | G32: 3.6 | H32: 3.7 | I32: 2.6 | J32: 3.1 | K32: 3.7 | L32: 3.6 | M32: 2.8 | N32: 2.8 | O32: 3.2 | P32: 3.6 | Q32: 3.3 | R32: 3.4 | S32: 3.3 | T32: 2.6 | U32: =MIN(D32:T32) -> 2.3 | V32: =MAX(D32:T32) -> 3.7
A33: Logistic & infrastructure | B33: Efficiency of customs clearance process 2022 | C33: Higher | D33: 2.4 | E33: 3.1 | F33: 3 | G33: 3 | H33: 3.2 | I33: 2.6 | J33: 2.7 | K33: 3.3 | L33: 3.2 | M33: 1.9 | N33: 2.6 | O33: 3.1 | P33: 3.4 | Q33: 2.7 | R33: 3.2 | S33: 3.4 | T33: 2.4 | U33: =MIN(D33:T33) -> 1.9 | V33: =MAX(D33:T33) -> 3.4
B34: Quality of railroad infrastructure 2019 | C34: Higher | D34: 1.2 | E34: 3.1 | F34: 2.4 | G34: 4.5 | H34: 3.1 | I34: 3.9 | J34: 3.8 | K34: 4.6 | L34: 4.6 | M34: 3 | N34: 3.1 | O34: 2.1 | P34: 3.9 | Q34: 2.8 | R34: 4 | S34: 3.1 | T34: 4.2 | U34: =MIN(D34:T34) -> 1.2 | V34: =MAX(D34:T34) -> 4.6
B35: Quality of road infrastructure 2019 | C35: Higher | D35: 3.9 | E35: 3.4 | F35: 5.6 | G35: 3.9 | H35: 4.7 | I35: 3.8 | J35: 4 | K35: 3.6 | L35: 4.8 | M35: 2.6 | N35: 3.9 | O35: 3.4 | P35: 4.3 | Q35: 3 | R35: 4 | S35: 4.9 | T35: 3 | U35: =MIN(D35:T35) -> 2.6 | V35: =MAX(D35:T35) -> 5.6
B36: Quallity of port infrastructure 2019 For landlocked countries, access to port facilities and inland waterways | C36: Higher | D36: 4.3 | E36: 4.3 | F36: 4.7 | G36: 3.2 | H36: 5.6 | I36: 3.8 | J36: 3.2 | K36: 4.9 | L36: 4.8 | M36: 2.3 | N36: 4.2 | O36: 2.4 | P36: 4.5 | Q36: 3.9 | R36: 3.1 | S36: 4.7 | T36: 3.9 | U36: =MIN(D36:T36) -> 2.3 | V36: =MAX(D36:T36) -> 5.6
B37: Quality air transport infrastructure 2019 | C37: Higher | D37: 4.1 | E37: 4.5 | F37: 4.8 | G37: 5 | H37: 4.6 | I37: 4.4 | J37: 4.6 | K37: 5.7 | L37: 4.9 | M37: 4.4 | N37: 4.6 | O37: 4.3 | P37: 4.8 | Q37: 4.6 | R37: 3.8 | S37: 4.6 | T37: 4 | U37: =MIN(D37:T37) -> 3.8 | V37: =MAX(D37:T37) -> 5.7
B38: Banking system z score | C38: higher | D38: 19.06 | E38: 7.87 | F38: 7.39 | G38: 10.34 | H38: 8.42 | I38: 7.91 | J38: 7.07 | K38: 7.11 | L38: 5.12 | M38: 8.72 | N38: 8.93 | O38: 9.52 | P38: 7.05 | Q38: 10.34 | R38: 18.93 | S38: 4.49 | T38: 5.18 | U38: =MIN(D38:T38) -> 4.49 | V38: =MAX(D38:T38) -> 19.06
B39: Bank liquid assets to deposits and short-term funding, 2021 | C39: higher | D39: 48.97 | E39: 37.11 | F39: 44.65 | G39: 35.42 | H39: 25.76 | I39: 21.27 | J39: 40.13 | K39: 47.38 | L39: 55.34 | M39: 34.74 | N39: 36.7 | O39: 30.95 | P39: 29.46 | Q39: 40.43 | R39: 11.01 | S39: 35.44 | T39: 41.25 | U39: =MIN(D39:T39) -> 11.01 | V39: =MAX(D39:T39) -> 55.34
A40: Financial stability | B40: Non-performing loans as percent of all bank loans, 2021 | C40: lower | D40: 5.39 | E40: 5.8 | F40: 5.7 | G40: 1.72 | H40: 1.09 | I40: 1.88 | J40: 3.66 | K40: 2.47 | L40: 0.51 | M40: 6.13 | N40: 6.83 | O40: 3.13 | P40: 2.87 | Q40: 3.35 | R40: 2.12 | S40: 2.06 | T40: 31.72 | U40: =MIN(D40:T40) -> 0.51 | V40: =MAX(D40:T40) -> 31.72
...

Sheet Normalized octombrie
B1: Index | C1: Best | D1: Albania | E1: Bulgaria | F1: Croatia | G1: Czech Republic | H1: Estonia | I1: Georgia | J1: Hungary | K1: Latvia | L1: Lithuania | M1: Moldova | N1: Montenegro | O1: North Macedonia | P1: Poland | Q1: Romania | R1: Slovakia | S1: Slovenia | T1: Ukraine | U1: Min | V1: Max | W1: Best green | X1: Worst red
A2: Economic complexity | B2: Economic Complexity Index | C2: higher | D2: =('Original Data'!D2-'Original Data'!$U$2)/('Original Data'!$V$2-'Original Data'!$U$2) -> 0 | E2: =('Original Data'!E2-'Original Data'!$U$2)/('Original Data'!$V$2-'Original Data'!$U$2) -> 0.42817392 | F2: =('Original Data'!F2-'Original Data'!$U$2)/('Original Data'!$V$2-'Original Data'!$U$2) -> 0.5058364 | G2: =('Original Data'!G2-'Original Data'!$U$2)/('Original Data'!$V$2-'Original Data'!$U$2) -> 1 | H2: =('Original Data'!H2-'Original Data'!$U$2)/('Original Data'!$V$2-'Original Data'!$U$2) -> 0.61660557 | I2: =('Original Data'!I2-'Original Data'!$U$2)/('Original Data'!$V$2-'Original Data'!$U$2) -> 0.14446479 | J2: =('Original Data'!J2-'Original Data'!$U$2)/('Original Data'!$V$2-'Original Data'!$U$2) -> 0.88585497 | K2: =('Original Data'!K2-'Original Data'!$U$2)/('Original Data'!$V$2-'Original Data'!$U$2) -> 0.48595396 | ... T2: =('Original Data'!T2-'Original Data'!$U$2)/('Original Data'!$V$2-'Original Data'!$U$2) -> 0.28019272 | U2: =MIN(D2:T2) -> 0 | V2: =MAX(D2:T2) -> 1
B3: Market concentration HH Market concentration index | C3: lower | D3: =('Original Data'!$V$3-'Original Data'!D3)/('Original Data'!$V$3-'Original Data'!$U$3) -> 0 | E3: =('Original Data'!$V$3-'Original Data'!E3)/('Original Data'!$V$3-'Original Data'!$U$3) -> 0.94117647 | F3: =('Original Data'!$V$3-'Original Data'!F3)/('Original Data'!$V$3-'Original Data'!$U$3) -> 0.88235294 | G3: =('Original Data'!$V$3-'Original Data'!G3)/('Original Data'!$V$3-'Original Data'!$U$3) -> 0.58823529 | H3: =('Original Data'!$V$3-'Original Data'!H3)/('Original Data'!$V$3-'Original Data'!$U$3) -> 0.88235294 | I3: =('Original Data'!$V$3-'Original Data'!I3)/('Original Data'!$V$3-'Original Data'!$U$3) -> 0.70588235 | J3: =('Original Data'!$V$3-'Original Data'!J3)/('Original Data'!$V$3-'Original Data'!$U$3) -> 0.70588235 | K3: =('Original Data'!$V$3-'Original Data'!K3)/('Original Data'!$V$3-'Original Data'!$U$3) -> 0.88235294 | ... T3: =('Original Data'!$V$3-'Original Data'!T3)/('Original Data'!$V$3-'Original Data'!$U$3) -> 1 | U3: =MIN(D3:T3) -> 0 | V3: =MAX(D3:T3) -> 1
A4: Foreign trade vulnerabilities | B4: Export partner concentration - main three leading destination markets for commodity exports as share of commodity exports (percentage) | C4: lower | D4: =('Original Data'!$V$4-'Original Data'!D4)/('Original Data'!$V$4-'Original Data'!$U$4) -> 0.17383947 | E4: =('Original Data'!$V$4-'Original Data'!E4)/('Original Data'!$V$4-'Original Data'!$U$4) -> 0.88774798 | F4: =('Original Data'!$V$4-'Original Data'!F4)/('Original Data'!$V$4-'Original Data'!$U$4) -> 1 | G4: =('Original Data'!$V$4-'Original Data'!G4)/('Original Data'!$V$4-'Original Data'!$U$4) -> 0.69772234 | H4: =('Original Data'!$V$4-'Original Data'!H4)/('Original Data'!$V$4-'Original Data'!$U$4) -> 0.76285667 | I4: =('Original Data'!$V$4-'Original Data'!I4)/('Original Data'!$V$4-'Original Data'!$U$4) -> 0.078765717 | J4: =('Original Data'!$V$4-'Original Data'!J4)/('Original Data'!$V$4-'Original Data'!$U$4) -> 0.78406616 | K4: =('Original Data'!$V$4-'Original Data'!K4)/('Original Data'!$V$4-'Original Data'!$U$4) -> 0.8687605 | ... T4: =('Original Data'!$V$4-'Original Data'!T4)/('Original Data'!$V$4-'Original Data'!$U$4) -> 0.42378349 | U4: =MIN(D4:T4) -> 0 | V4: =MAX(D4:T4) -> 1
B5: Import partner concentration main three trading partners for commodity imports as share of commodity imports | C5: lower | D5: =('Original Data'!$V$5-'Original Data'!D5)/('Original Data'!$V$5-'Original Data'!$U$5) -> 0.76631871 | E5: =('Original Data'!$V$5-'Original Data'!E5)/('Original Data'!$V$5-'Original Data'!$U$5) -> 0.85676332 | F5: =('Original Data'!$V$5-'Original Data'!F5)/('Original Data'!$V$5-'Original Data'!$U$5) -> 0.92972646 | G5: =('Original Data'!$V$5-'Original Data'!G5)/('Original Data'!$V$5-'Original Data'!$U$5) -> 0.72321877 | H5: =('Original Data'!$V$5-'Original Data'!H5)/('Original Data'!$V$5-'Original Data'!$U$5) -> 0.69533393 | I5: =('Original Data'!$V$5-'Original Data'!I5)/('Original Data'!$V$5-'Original Data'!$U$5) -> 0.39769069 | J5: =('Original Data'!$V$5-'Original Data'!J5)/('Original Data'!$V$5-'Original Data'!$U$5) -> 0.78121259 | K5: =('Original Data'!$V$5-'Original Data'!K5)/('Original Data'!$V$5-'Original Data'!$U$5) -> 0.72501307 | ... T5: =('Original Data'!$V$5-'Original Data'!T5)/('Original Data'!$V$5-'Original Data'!$U$5) -> 0.69760906 | U5: =MIN(D5:T5) -> 0 | V5: =MAX(D5:T5) -> 1
B6: Exports to Russian federation as % of total exports 2021 | C6: Lower | D6: =('Original Data'!$V$6-'Original Data'!D6)/('Original Data'!$V$6-'Original Data'!$U$6) -> 1 | E6: =('Original Data'!$V$6-'Original Data'!E6)/('Original Data'!$V$6-'Original Data'!$U$6) -> 0.913412 | F6: =('Original Data'!$V$6-'Original Data'!F6)/('Original Data'!$V$6-'Original Data'!$U$6) -> 0.9230778 | G6: =('Original Data'!$V$6-'Original Data'!G6)/('Original Data'!$V$6-'Original Data'!$U$6) -> 0.86791569 | H6: =('Original Data'!$V$6-'Original Data'!H6)/('Original Data'!$V$6-'Original Data'!$U$6) -> 0.55549733 | I6: =('Original Data'!$V$6-'Original Data'!I6)/('Original Data'!$V$6-'Original Data'!$U$6) -> 0 | J6: =('Original Data'!$V$6-'Original Data'!J6)/('Original Data'!$V$6-'Original Data'!$U$6) -> 0.89833333 | K6: =('Original Data'!$V$6-'Original Data'!K6)/('Original Data'!$V$6-'Original Data'!$U$6) -> 0.49406609 | ... T6: =('Original Data'!$V$6-'Original Data'!T6)/('Original Data'!$V$6-'Original Data'!$U$6) -> 0.64654767 | U6: =MIN(D6:T6) -> 0 | V6: =MAX(D6:T6) -> 1
B7: Imports from Russian federation as % of total imports 2021 | C7: Lower | D7: =('Original Data'!$V$7-'Original Data'!D7)/('Original Data'!$V$7-'Original Data'!$U$7) -> 0.89802199 | E7: =('Original Data'!$V$7-'Original Data'!E7)/('Original Data'!$V$7-'Original Data'!$U$7) -> 0.4971228 | F7: =('Original Data'!$V$7-'Original Data'!F7)/('Original Data'!$V$7-'Original Data'!$U$7) -> 0.9152234 | G7: =('Original Data'!$V$7-'Original Data'!G7)/('Original Data'!$V$7-'Original Data'!$U$7) -> 0.79873311 | H7: =('Original Data'!$V$7-'Original Data'!H7)/('Original Data'!$V$7-'Original Data'!$U$7) -> 0.226275 | I7: =('Original Data'!$V$7-'Original Data'!I7)/('Original Data'!$V$7-'Original Data'!$U$7) -> 0.31934982 | J7: =('Original Data'!$V$7-'Original Data'!J7)/('Original Data'!$V$7-'Original Data'!$U$7) -> 0.81453068 | K7: =('Original Data'!$V$7-'Original Data'!K7)/('Original Data'!$V$7-'Original Data'!$U$7) -> 0.39316007 | ... T7: =('Original Data'!$V$7-'Original Data'!T7)/('Original Data'!$V$7-'Original Data'!$U$7) -> 0.44339092 | U7: =MIN(D7:T7) -> 0 | V7: =MAX(D7:T7) -> 1
B8: Trade balance as % of GDP | C8: higher | D8: =('Original Data'!D8-'Original Data'!$U$8)/('Original Data'!$V$8-'Original Data'!$U$8) -> 0.42428697 | E8: =('Original Data'!E8-'Original Data'!$U$8)/('Original Data'!$V$8-'Original Data'!$U$8) -> 0.88326963 | F8: =('Original Data'!F8-'Original Data'!$U$8)/('Original Data'!$V$8-'Original Data'!$U$8) -> 0.79800059 | G8: =('Original Data'!G8-'Original Data'!$U$8)/('Original Data'!$V$8-'Original Data'!$U$8) -> 0.91767127 | H8: =('Original Data'!H8-'Original Data'!$U$8)/('Original Data'!$V$8-'Original Data'!$U$8) -> 0.84063511 | I8: =('Original Data'!I8-'Original Data'!$U$8)/('Original Data'!$V$8-'Original Data'!$U$8) -> 0.32931491 | J8: =('Original Data'!J8-'Original Data'!$U$8)/('Original Data'!$V$8-'Original Data'!$U$8) -> 0.85327845 | K8: =('Original Data'!K8-'Original Data'!$U$8)/('Original Data'!$V$8-'Original Data'!$U$8) -> 0.7697736 | ... T8: =('Original Data'!T8-'Original Data'!$U$8)/('Original Data'!$V$8-'Original Data'!$U$8) -> 0.75477801 | U8: =MIN(D8:T8) -> 0 | V8: =MAX(D8:T8) -> 1
B9: Trade balance, as % of imports | C9: higher | D9: =('Original Data'!D9-'Original Data'!$U$9)/('Original Data'!$V$9-'Original Data'!$U$9) -> 0.30591866 | E9: =('Original Data'!E9-'Original Data'!$U$9)/('Original Data'!$V$9-'Original Data'!$U$9) -> 0.90613653 | F9: =('Original Data'!F9-'Original Data'!$U$9)/('Original Data'!$V$9-'Original Data'!$U$9) -> 0.81771968 | G9: =('Original Data'!G9-'Original Data'!$U$9)/('Original Data'!$V$9-'Original Data'!$U$9) -> 0.93209877 | H9: =('Original Data'!H9-'Original Data'!$U$9)/('Original Data'!$V$9-'Original Data'!$U$9) -> 0.86220044 | I9: =('Original Data'!I9-'Original Data'!$U$9)/('Original Data'!$V$9-'Original Data'!$U$9) -> 0.34513435 | J9: =('Original Data'!J9-'Original Data'!$U$9)/('Original Data'!$V$9-'Original Data'!$U$9) -> 0.8718228 | K9: =('Original Data'!K9-'Original Data'!$U$9)/('Original Data'!$V$9-'Original Data'!$U$9) -> 0.79774873 | ... T9: =('Original Data'!T9-'Original Data'!$U$9)/('Original Data'!$V$9-'Original Data'!$U$9) -> 0.80392157 | U9: =MIN(D9:T9) -> 0 | V9: =MAX(D9:T9) -> 1
A10: Foreign trade dependence | B10: Export of high-tech goods, compared to overall exports, %, 2021 | C10: high | D10: =('Original Data'!D10-'Original Data'!$U$10)/('Original Data'!$V$10-'Original Data'!$U$10) -> 0 | E10: =('Original Data'!E10-'Original Data'!$U$10)/('Original Data'!$V$10-'Original Data'!$U$10) -> 0.49383061 | F10: =('Original Data'!F10-'Original Data'!$U$10)/('Original Data'!$V$10-'Original Data'!$U$10) -> 0.42138716 | G10: =('Original Data'!G10-'Original Data'!$U$10)/('Original Data'!$V$10-'Original Data'!$U$10) -> 1 | H10: =('Original Data'!H10-'Original Data'!$U$10)/('Original Data'!$V$10-'Original Data'!$U$10) -> 0.84100793 | I10: =('Original Data'!I10-'Original Data'!$U$10)/('Original Data'!$V$10-'Original Data'!$U$10) -> 0.088096827 | J10: =('Original Data'!J10-'Original Data'!$U$10)/('Original Data'!$V$10-'Original Data'!$U$10) -> 0.76882975 | K10: =('Original Data'!K10-'Original Data'!$U$10)/('Original Data'!$V$10-'Original Data'!$U$10) -> 0.88591194 | ... T10: =('Original Data'!T10-'Original Data'!$U$10)/('Original Data'!$V$10-'Original Data'!$U$10) -> 0.24969174 | U10: =MIN(D10:T10) -> 0 | V10: =MAX(D10:T10) -> 1
B11: Food imports as % of total imports | C11: lower | D11: =('Original Data'!$V$11-'Original Data'!D11)/('Original Data'!$V$11-'Original Data'!$U$11) -> 0.331633 | E11: =('Original Data'!$V$11-'Original Data'!E11)/('Original Data'!$V$11-'Original Data'!$U$11) -> 0.72001472 | F11: =('Original Data'!$V$11-'Original Data'!F11)/('Original Data'!$V$11-'Original Data'!$U$11) -> 0.57774797 | G11: =('Original Data'!$V$11-'Original Data'!G11)/('Original Data'!$V$11-'Original Data'!$U$11) -> 1 | H11: =('Original Data'!$V$11-'Original Data'!H11)/('Original Data'!$V$11-'Original Data'!$U$11) -> 0.74841132 | I11: =('Original Data'!$V$11-'Original Data'!I11)/('Original Data'!$V$11-'Original Data'!$U$11) -> 0.60351538 | J11: =('Original Data'!$V$11-'Original Data'!J11)/('Original Data'!$V$11-'Original Data'!$U$11) -> 0.98037557 | K11: =('Original Data'!$V$11-'Original Data'!K11)/('Original Data'!$V$11-'Original Data'!$U$11) -> 0.54475299 | ... T11: =('Original Data'!$V$11-'Original Data'!T11)/('Original Data'!$V$11-'Original Data'!$U$11) -> 0.74379468 | U11: =MIN(D11:T11) -> 0 | V11: =MAX(D11:T11) -> 1
B12: Fuel imports as % of total imports | C12: lower | D12: =('Original Data'!$V$12-'Original Data'!D12)/('Original Data'!$V$12-'Original Data'!$U$12) -> 0.57590158 | E12: =('Original Data'!$V$12-'Original Data'!E12)/('Original Data'!$V$12-'Original Data'!$U$12) -> 0.52703738 | F12: =('Original Data'!$V$12-'Original Data'!F12)/('Original Data'!$V$12-'Original Data'!$U$12) -> 0.34952198 | G12: =('Original Data'!$V$12-'Original Data'!G12)/('Original Data'!$V$12-'Original Data'!$U$12) -> 1 | H12: =('Original Data'!$V$12-'Original Data'!H12)/('Original Data'!$V$12-'Original Data'!$U$12) -> 0.40751052 | I12: =('Original Data'!$V$12-'Original Data'!I12)/('Original Data'!$V$12-'Original Data'!$U$12) -> 0.39048373 | J12: =('Original Data'!$V$12-'Original Data'!J12)/('Original Data'!$V$12-'Original Data'!$U$12) -> 0.72749004 | K12: =('Original Data'!$V$12-'Original Data'!K12)/('Original Data'!$V$12-'Original Data'!$U$12) -> 0.61999824 | ... T12: =('Original Data'!$V$12-'Original Data'!T12)/('Original Data'!$V$12-'Original Data'!$U$12) -> 0 | U12: =MIN(D12:T12) -> 0 | V12: =MAX(D12:T12) -> 1
B13: Manufactures goods imports as % of total imports | C13: lower | D13: =('Original Data'!$V$13-'Original Data'!D13)/('Original Data'!$V$13-'Original Data'!$U$13) -> 0.73077609 | E13: =('Original Data'!$V$13-'Original Data'!E13)/('Original Data'!$V$13-'Original Data'!$U$13) -> 0.94957536 | F13: =('Original Data'!$V$13-'Original Data'!F13)/('Original Data'!$V$13-'Original Data'!$U$13) -> 0.69202971 | G13: =('Original Data'!$V$13-'Original Data'!G13)/('Original Data'!$V$13-'Original Data'!$U$13) -> 0 | H13: =('Original Data'!$V$13-'Original Data'!H13)/('Original Data'!$V$13-'Original Data'!$U$13) -> 0.85532442 | I13: =('Original Data'!$V$13-'Original Data'!I13)/('Original Data'!$V$13-'Original Data'!$U$13) -> 0.87762866 | J13: =('Original Data'!$V$13-'Original Data'!J13)/('Original Data'!$V$13-'Original Data'!$U$13) -> 0.22101243 | K13: =('Original Data'!$V$13-'Original Data'!K13)/('Original Data'!$V$13-'Original Data'!$U$13) -> 1 | ... T13: =('Original Data'!$V$13-'Original Data'!T13)/('Original Data'!$V$13-'Original Data'!$U$13) -> 0.7070958 | U13: =MIN(D13:T13) -> 0 | V13: =MAX(D13:T13) -> 1
B14: Electronic excluding parts and components imports as % of total imports | C14: lower | D14: =('Original Data'!$V$14-'Original Data'!D14)/('Original Data'!$V$14-'Original Data'!$U$14) -> 0.85218847 | E14: =('Original Data'!$V$14-'Original Data'!E14)/('Original Data'!$V$14-'Original Data'!$U$14) -> 0.8267161 | F14: =('Original Data'!$V$14-'Original Data'!F14)/('Original Data'!$V$14-'Original Data'!$U$14) -> 0.78817093 | G14: =('Original Data'!$V$14-'Original Data'!G14)/('Original Data'!$V$14-'Original Data'!$U$14) -> 0 | H14: =('Original Data'!$V$14-'Original Data'!H14)/('Original Data'!$V$14-'Original Data'!$U$14) -> 0.85076236 | I14: =('Original Data'!$V$14-'Original Data'!I14)/('Original Data'!$V$14-'Original Data'!$U$14) -> 0.76669743 | J14: =('Original Data'!$V$14-'Original Data'!J14)/('Original Data'!$V$14-'Original Data'!$U$14) -> 0.64954623 | K14: =('Original Data'!$V$14-'Original Data'!K14)/('Original Data'!$V$14-'Original Data'!$U$14) -> 0.64273813 | ... T14: =('Original Data'!$V$14-'Original Data'!T14)/('Original Data'!$V$14-'Original Data'!$U$14) -> 0.74164803 | U14: =MIN(D14:T14) -> 0 | V14: =MAX(D14:T14) -> 1
B15: Parts and components for electrical and electronic goods imports as % of total imports | C15: lower | D15: =('Original Data'!$V$15-'Original Data'!D15)/('Original Data'!$V$15-'Original Data'!$U$15) -> 1 | E15: =('Original Data'!$V$15-'Original Data'!E15)/('Original Data'!$V$15-'Original Data'!$U$15) -> 0.70038286 | F15: =('Original Data'!$V$15-'Original Data'!F15)/('Original Data'!$V$15-'Original Data'!$U$15) -> 0.87858845 | G15: =('Original Data'!$V$15-'Original Data'!G15)/('Original Data'!$V$15-'Original Data'!$U$15) -> 0.017436426 | H15: =('Original Data'!$V$15-'Original Data'!H15)/('Original Data'!$V$15-'Original Data'!$U$15) -> 0.56883703 | I15: =('Original Data'!$V$15-'Original Data'!I15)/('Original Data'!$V$15-'Original Data'!$U$15) -> 0.95765551 | J15: =('Original Data'!$V$15-'Original Data'!J15)/('Original Data'!$V$15-'Original Data'!$U$15) -> 0 | K15: =('Original Data'!$V$15-'Original Data'!K15)/('Original Data'!$V$15-'Original Data'!$U$15) -> 0.69797741 | ... T15: =('Original Data'!$V$15-'Original Data'!T15)/('Original Data'!$V$15-'Original Data'!$U$15) -> 0.82449433 | U15: =MIN(D15:T15) -> 0 | V15: =MAX(D15:T15) -> 1
B16: Iron and steel imports as % of total imports | C16: lower | D16: =('Original Data'!$V$16-'Original Data'!D16)/('Original Data'!$V$16-'Original Data'!$U$16) -> 0.90366201 | E16: =('Original Data'!$V$16-'Original Data'!E16)/('Original Data'!$V$16-'Original Data'!$U$16) -> 0.33994739 | F16: =('Original Data'!$V$16-'Original Data'!F16)/('Original Data'!$V$16-'Original Data'!$U$16) -> 0.63144005 | G16: =('Original Data'!$V$16-'Original Data'!G16)/('Original Data'!$V$16-'Original Data'!$U$16) -> 0.36210541 | H16: =('Original Data'!$V$16-'Original Data'!H16)/('Original Data'!$V$16-'Original Data'!$U$16) -> 0.55758631 | I16: =('Original Data'!$V$16-'Original Data'!I16)/('Original Data'!$V$16-'Original Data'!$U$16) -> 0.5592208 | J16: =('Original Data'!$V$16-'Original Data'!J16)/('Original Data'!$V$16-'Original Data'!$U$16) -> 0.78219078 | K16: =('Original Data'!$V$16-'Original Data'!K16)/('Original Data'!$V$16-'Original Data'!$U$16) -> 0.40007704 | ... T16: =('Original Data'!$V$16-'Original Data'!T16)/('Original Data'!$V$16-'Original Data'!$U$16) -> 1 | U16: =MIN(D16:T16) -> 0 | V16: =MAX(D16:T16) -> 1
B17: Trade balance in basic food as a ratio to total imports, 2017-2021, percentage | C17: high | D17: =('Original Data'!D17-'Original Data'!$U$17)/('Original Data'!$V$17-'Original Data'!$U$17) -> 0.24498886 | E17: =('Original Data'!E17-'Original Data'!$U$17)/('Original Data'!$V$17-'Original Data'!$U$17) -> 0.46325167 | F17: =('Original Data'!F17-'Original Data'!$U$17)/('Original Data'!$V$17-'Original Data'!$U$17) -> 0.29621381 | G17: =('Original Data'!G17-'Original Data'!$U$17)/('Original Data'!$V$17-'Original Data'!$U$17) -> 0.34966592 | H17: =('Original Data'!H17-'Original Data'!$U$17)/('Original Data'!$V$17-'Original Data'!$U$17) -> 0.34966592 | I17: =('Original Data'!I17-'Original Data'!$U$17)/('Original Data'!$V$17-'Original Data'!$U$17) -> 0.22494432 | J17: =('Original Data'!J17-'Original Data'!$U$17)/('Original Data'!$V$17-'Original Data'!$U$17) -> 0.43652561 | K17: =('Original Data'!K17-'Original Data'!$U$17)/('Original Data'!$V$17-'Original Data'!$U$17) -> 0.38752784 | ... T17: =('Original Data'!T17-'Original Data'!$U$17)/('Original Data'!$V$17-'Original Data'!$U$17) -> 1 | U17: =MIN(D17:T17) -> 0 | V17: =MAX(D17:T17) -> 1
A18: Energy dependence | B18: Energy dependency as net energy imports as % of energy use | C18: lower | D18: =('Original Data'!$V$18-'Original Data'!D18)/('Original Data'!$V$18-'Original Data'!$U$18) -> 0.95969773 | E18: =('Original Data'!$V$18-'Original Data'!E18)/('Original Data'!$V$18-'Original Data'!$U$18) -> 0.65617128 | F18: =('Original Data'!$V$18-'Original Data'!F18)/('Original Data'!$V$18-'Original Data'!$U$18) -> 0.45843829 | G18: =('Original Data'!$V$18-'Original Data'!G18)/('Original Data'!$V$18-'Original Data'!$U$18) -> 0.64357683 | H18: =('Original Data'!$V$18-'Original Data'!H18)/('Original Data'!$V$18-'Original Data'!$U$18) -> 1 | I18: =('Original Data'!$V$18-'Original Data'!I18)/('Original Data'!$V$18-'Original Data'!$U$18) -> 0.26760644 | J18: =('Original Data'!$V$18-'Original Data'!J18)/('Original Data'!$V$18-'Original Data'!$U$18) -> 0.42065491 | K18: =('Original Data'!$V$18-'Original Data'!K18)/('Original Data'!$V$18-'Original Data'!$U$18) -> 0.5604534 | ... T18: =('Original Data'!$V$18-'Original Data'!T18)/('Original Data'!$V$18-'Original Data'!$U$18) -> 0.79345088 | U18: =MIN(D18:T18) -> 0 | V18: =MAX(D18:T18) -> 1
B19: Oil reserves billion barrels, 2021 | C19: higher | D19: =('Original Data'!D19-'Original Data'!$U$19)/('Original Data'!$V$19-'Original Data'!$U$19) -> 0.25 | E19: =('Original Data'!E19-'Original Data'!$U$19)/('Original Data'!$V$19-'Original Data'!$U$19) -> 0.033333333 | F19: =('Original Data'!F19-'Original Data'!$U$19)/('Original Data'!$V$19-'Original Data'!$U$19) -> 0.11666667 | G19: =('Original Data'!G19-'Original Data'!$U$19)/('Original Data'!$V$19-'Original Data'!$U$19) -> 0.033333333 | H19: =('Original Data'!H19-'Original Data'!$U$19)/('Original Data'!$V$19-'Original Data'!$U$19) -> 0 | I19: =('Original Data'!I19-'Original Data'!$U$19)/('Original Data'!$V$19-'Original Data'!$U$19) -> 0 | J19: =('Original Data'!J19-'Original Data'!$U$19)/('Original Data'!$V$19-'Original Data'!$U$19) -> 0.016666667 | K19: =('Original Data'!K19-'Original Data'!$U$19)/('Original Data'!$V$19-'Original Data'!$U$19) -> 0 | ... T19: =('Original Data'!T19-'Original Data'!$U$19)/('Original Data'!$V$19-'Original Data'!$U$19) -> 0.66666667 | U19: =MIN(D19:T19) -> 0 | V19: =MAX(D19:T19) -> 1
B20: Oil production/oil consumption, percentage | C20: higher | D20: =('Original Data'!D20-'Original Data'!$U$20)/('Original Data'!$V$20-'Original Data'!$U$20) -> 1 | E20: =('Original Data'!E20-'Original Data'!$U$20)/('Original Data'!$V$20-'Original Data'!$U$20) -> 0.021428571 | F20: =('Original Data'!F20-'Original Data'!$U$20)/('Original Data'!$V$20-'Original Data'!$U$20) -> 0.28234286 | G20: =('Original Data'!G20-'Original Data'!$U$20)/('Original Data'!$V$20-'Original Data'!$U$20) -> 0.01377 | H20: =('Original Data'!H20-'Original Data'!$U$20)/('Original Data'!$V$20-'Original Data'!$U$20) -> 0 | I20: =('Original Data'!I20-'Original Data'!$U$20)/('Original Data'!$V$20-'Original Data'!$U$20) -> 0.0252 | J20: =('Original Data'!J20-'Original Data'!$U$20)/('Original Data'!$V$20-'Original Data'!$U$20) -> 0.22183448 | K20: =('Original Data'!K20-'Original Data'!$U$20)/('Original Data'!$V$20-'Original Data'!$U$20) -> 0 | ... T20: =('Original Data'!T20-'Original Data'!$U$20)/('Original Data'!$V$20-'Original Data'!$U$20) -> 0.046715953 | U20: =MIN(D20:T20) -> 0 | V20: =MAX(D20:T20) -> 1
B21: Fossil fuels electricity capacity, million kilowatts, 2021 | C21: higher | D21: =('Original Data'!D21-'Original Data'!$U$21)/('Original Data'!$V$21-'Original Data'!$U$21) -> 0 | E21: =('Original Data'!E21-'Original Data'!$U$21)/('Original Data'!$V$21-'Original Data'!$U$21) -> 0.098849945 | F21: =('Original Data'!F21-'Original Data'!$U$21)/('Original Data'!$V$21-'Original Data'!$U$21) -> 0.036692223 | G21: =('Original Data'!G21-'Original Data'!$U$21)/('Original Data'!$V$21-'Original Data'!$U$21) -> 0.33351588 | H21: =('Original Data'!H21-'Original Data'!$U$21)/('Original Data'!$V$21-'Original Data'!$U$21) -> 0.055038335 | I21: =('Original Data'!I21-'Original Data'!$U$21)/('Original Data'!$V$21-'Original Data'!$U$21) -> 0.021631982 | J21: =('Original Data'!J21-'Original Data'!$U$21)/('Original Data'!$V$21-'Original Data'!$U$21) -> 0.16292442 | K21: =('Original Data'!K21-'Original Data'!$U$21)/('Original Data'!$V$21-'Original Data'!$U$21) -> 0.029299014 | ... T21: =('Original Data'!T21-'Original Data'!$U$21)/('Original Data'!$V$21-'Original Data'!$U$21) -> 0.77929901 | U21: =MIN(D21:T21) -> 0 | V21: =MAX(D21:T21) -> 1
B22: Wind electricity capacity, million kilowatts, 2021 | C22: higher | D22: =('Original Data'!D22-'Original Data'!$U$22)/('Original Data'!$V$22-'Original Data'!$U$22) -> 0 | E22: =('Original Data'!E22-'Original Data'!$U$22)/('Original Data'!$V$22-'Original Data'!$U$22) -> 0.10201149 | F22: =('Original Data'!F22-'Original Data'!$U$22)/('Original Data'!$V$22-'Original Data'!$U$22) -> 0.14224138 | G22: =('Original Data'!G22-'Original Data'!$U$22)/('Original Data'!$V$22-'Original Data'!$U$22) -> 0.048850575 | H22: =('Original Data'!H22-'Original Data'!$U$22)/('Original Data'!$V$22-'Original Data'!$U$22) -> 0.045977011 | I22: =('Original Data'!I22-'Original Data'!$U$22)/('Original Data'!$V$22-'Original Data'!$U$22) -> 0.0028735632 | J22: =('Original Data'!J22-'Original Data'!$U$22)/('Original Data'!$V$22-'Original Data'!$U$22) -> 0.0045977011 | K22: =('Original Data'!K22-'Original Data'!$U$22)/('Original Data'!$V$22-'Original Data'!$U$22) -> 0.011494253 | ... T22: =('Original Data'!T22-'Original Data'!$U$22)/('Original Data'!$V$22-'Original Data'!$U$22) -> 0.25287356 | U22: =MIN(D22:T22) -> 0 | V22: =MAX(D22:T22) -> 1
B23: Solar electricity capacity, million kilowatts, 2021 | C23: higher | D23: =('Original Data'!D23-'Original Data'!$U$23)/('Original Data'!$V$23-'Original Data'!$U$23) -> 0.0037220844 | E23: =('Original Data'!E23-'Original Data'!$U$23)/('Original Data'!$V$23-'Original Data'!$U$23) -> 0.14764268 | F23: =('Original Data'!F23-'Original Data'!$U$23)/('Original Data'!$V$23-'Original Data'!$U$23) -> 0.013647643 | G23: =('Original Data'!G23-'Original Data'!$U$23)/('Original Data'!$V$23-'Original Data'!$U$23) -> 0.2630273 | H23: =('Original Data'!H23-'Original Data'!$U$23)/('Original Data'!$V$23-'Original Data'!$U$23) -> 0.050868486 | I23: =('Original Data'!I23-'Original Data'!$U$23)/('Original Data'!$V$23-'Original Data'!$U$23) -> 0 | J23: =('Original Data'!J23-'Original Data'!$U$23)/('Original Data'!$V$23-'Original Data'!$U$23) -> 0.26426799 | K23: =('Original Data'!K23-'Original Data'!$U$23)/('Original Data'!$V$23-'Original Data'!$U$23) -> 0.0012406948 | ... T23: =('Original Data'!T23-'Original Data'!$U$23)/('Original Data'!$V$23-'Original Data'!$U$23) -> 1 | U23: =MIN(D23:T23) -> 0 | V23: =MAX(D23:T23) -> 1
B24: Hydroelectricity capacity, million kilowatts, 2021 | C24: higher | D24: =('Original Data'!D24-'Original Data'!$U$24)/('Original Data'!$V$24-'Original Data'!$U$24) -> 0.38424437 | E24: =('Original Data'!E24-'Original Data'!$U$24)/('Original Data'!$V$24-'Original Data'!$U$24) -> 0.27813505 | F24: =('Original Data'!F24-'Original Data'!$U$24)/('Original Data'!$V$24-'Original Data'!$U$24) -> 0.30064309 | G24: =('Original Data'!G24-'Original Data'!$U$24)/('Original Data'!$V$24-'Original Data'!$U$24) -> 0.17845659 | H24: =('Original Data'!H24-'Original Data'!$U$24)/('Original Data'!$V$24-'Original Data'!$U$24) -> 0 | I24: =('Original Data'!I24-'Original Data'!$U$24)/('Original Data'!$V$24-'Original Data'!$U$24) -> 0.5562701 | J24: =('Original Data'!J24-'Original Data'!$U$24)/('Original Data'!$V$24-'Original Data'!$U$24) -> 0.0096463023 | K24: =('Original Data'!K24-'Original Data'!$U$24)/('Original Data'!$V$24-'Original Data'!$U$24) -> 0.25562701 | ... T24: =('Original Data'!T24-'Original Data'!$U$24)/('Original Data'!$V$24-'Original Data'!$U$24) -> 0.71221865 | U24: =MIN(D24:T24) -> 0 | V24: =MAX(D24:T24) -> 1
B25: Nuclear electricity capacity, million kilowatts, 2021 | C25: higher | D25: =('Original Data'!D25-'Original Data'!$U$25)/('Original Data'!$V$25-'Original Data'!$U$25) -> 0 | E25: =('Original Data'!E25-'Original Data'!$U$25)/('Original Data'!$V$25-'Original Data'!$U$25) -> 0.15331808 | F25: =('Original Data'!F25-'Original Data'!$U$25)/('Original Data'!$V$25-'Original Data'!$U$25) -> 0 | G25: =('Original Data'!G25-'Original Data'!$U$25)/('Original Data'!$V$25-'Original Data'!$U$25) -> 0.29977117 | H25: =('Original Data'!H25-'Original Data'!$U$25)/('Original Data'!$V$25-'Original Data'!$U$25) -> 0 | I25: =('Original Data'!I25-'Original Data'!$U$25)/('Original Data'!$V$25-'Original Data'!$U$25) -> 0 | J25: =('Original Data'!J25-'Original Data'!$U$25)/('Original Data'!$V$25-'Original Data'!$U$25) -> 0.14645309 | K25: =('Original Data'!K25-'Original Data'!$U$25)/('Original Data'!$V$25-'Original Data'!$U$25) -> 0 | ... T25: =('Original Data'!T25-'Original Data'!$U$25)/('Original Data'!$V$25-'Original Data'!$U$25) -> 1 | U25: =MIN(D25:T25) -> 0 | V25: =MAX(D25:T25) -> 1
B26: Geothermal electricity capacity, million kilowatts, 2021 | C26: higher | D26: =('Original Data'!D26-'Original Data'!$U$26)/('Original Data'!$V$26-'Original Data'!$U$26) -> 0 | E26: =('Original Data'!E26-'Original Data'!$U$26)/('Original Data'!$V$26-'Original Data'!$U$26) -> 0 | F26: =('Original Data'!F26-'Original Data'!$U$26)/('Original Data'!$V$26-'Original Data'!$U$26) -> 1 | G26: =('Original Data'!G26-'Original Data'!$U$26)/('Original Data'!$V$26-'Original Data'!$U$26) -> 0 | H26: =('Original Data'!H26-'Original Data'!$U$26)/('Original Data'!$V$26-'Original Data'!$U$26) -> 0 | I26: =('Original Data'!I26-'Original Data'!$U$26)/('Original Data'!$V$26-'Original Data'!$U$26) -> 0 | J26: =('Original Data'!J26-'Original Data'!$U$26)/('Original Data'!$V$26-'Original Data'!$U$26) -> 0 | K26: =('Original Data'!K26-'Original Data'!$U$26)/('Original Data'!$V$26-'Original Data'!$U$26) -> 0 | ... T26: =('Original Data'!T26-'Original Data'!$U$26)/('Original Data'!$V$26-'Original Data'!$U$26) -> 0 | U26: =MIN(D26:T26) -> 0 | V26: =MAX(D26:T26) -> 1
A27: Economic openess | B27: Ratio of international trade to GDP | C27: Lower | D27: =('Original Data'!$V$27-'Original Data'!D27)/('Original Data'!$V$27-'Original Data'!$U$27) -> 0.96845015 | E27: =('Original Data'!$V$27-'Original Data'!E27)/('Original Data'!$V$27-'Original Data'!$U$27) -> 0.47982994 | F27: =('Original Data'!$V$27-'Original Data'!F27)/('Original Data'!$V$27-'Original Data'!$U$27) -> 0.60396552 | G27: =('Original Data'!$V$27-'Original Data'!G27)/('Original Data'!$V$27-'Original Data'!$U$27) -> 0.38085168 | H27: =('Original Data'!$V$27-'Original Data'!H27)/('Original Data'!$V$27-'Original Data'!$U$27) -> 0.2132223 | I27: =('Original Data'!$V$27-'Original Data'!I27)/('Original Data'!$V$27-'Original Data'!$U$27) -> 0.72579501 | J27: =('Original Data'!$V$27-'Original Data'!J27)/('Original Data'!$V$27-'Original Data'!$U$27) -> 0.1365648 | K27: =('Original Data'!$V$27-'Original Data'!K27)/('Original Data'!$V$27-'Original Data'!$U$27) -> 0.45156747 | ... T27: =('Original Data'!$V$27-'Original Data'!T27)/('Original Data'!$V$27-'Original Data'!$U$27) -> 1 | U27: =MIN(D27:T27) -> 0 | V27: =MAX(D27:T27) -> 1
B28: Exports as % to GDP | C28: lower | D28: =('Original Data'!$V$28-'Original Data'!D28)/('Original Data'!$V$28-'Original Data'!$U$28) -> 1 | E28: =('Original Data'!$V$28-'Original Data'!E28)/('Original Data'!$V$28-'Original Data'!$U$28) -> 0.51392846 | F28: =('Original Data'!$V$28-'Original Data'!F28)/('Original Data'!$V$28-'Original Data'!$U$28) -> 0.67299778 | G28: =('Original Data'!$V$28-'Original Data'!G28)/('Original Data'!$V$28-'Original Data'!$U$28) -> 0.33349161 | H28: =('Original Data'!$V$28-'Original Data'!H28)/('Original Data'!$V$28-'Original Data'!$U$28) -> 0.2453308 | I28: =('Original Data'!$V$28-'Original Data'!I28)/('Original Data'!$V$28-'Original Data'!$U$28) -> 0.80104463 | J28: =('Original Data'!$V$28-'Original Data'!J28)/('Original Data'!$V$28-'Original Data'!$U$28) -> 0.19389047 | K28: =('Original Data'!$V$28-'Original Data'!K28)/('Original Data'!$V$28-'Original Data'!$U$28) -> 0.48005698 | ... T28: =('Original Data'!$V$28-'Original Data'!T28)/('Original Data'!$V$28-'Original Data'!$U$28) -> 0.83966445 | U28: =MIN(D28:T28) -> 0 | V28: =MAX(D28:T28) -> 1
B29: Imports as % GDP | C29: lower | D29: =('Original Data'!$V$29-'Original Data'!D29)/('Original Data'!$V$29-'Original Data'!$U$29) -> 0.96088957 | E29: =('Original Data'!$V$29-'Original Data'!E29)/('Original Data'!$V$29-'Original Data'!$U$29) -> 0.65912577 | F29: =('Original Data'!$V$29-'Original Data'!F29)/('Original Data'!$V$29-'Original Data'!$U$29) -> 0.79141104 | G29: =('Original Data'!$V$29-'Original Data'!G29)/('Original Data'!$V$29-'Original Data'!$U$29) -> 0.46510736 | H29: =('Original Data'!$V$29-'Original Data'!H29)/('Original Data'!$V$29-'Original Data'!$U$29) -> 0.29467025 | I29: =('Original Data'!$V$29-'Original Data'!I29)/('Original Data'!$V$29-'Original Data'!$U$29) -> 0.6595092 | J29: =('Original Data'!$V$29-'Original Data'!J29)/('Original Data'!$V$29-'Original Data'!$U$29) -> 0.24520706 | K29: =('Original Data'!$V$29-'Original Data'!K29)/('Original Data'!$V$29-'Original Data'!$U$29) -> 0.52013037 | ... T29: =('Original Data'!$V$29-'Original Data'!T29)/('Original Data'!$V$29-'Original Data'!$U$29) -> 1 | U29: =MIN(D29:T29) -> 0 | V29: =MAX(D29:T29) -> 1
B30: FDI % of GDP | C30: higher | D30: =('Original Data'!D30-'Original Data'!$U$30)/('Original Data'!$V$30-'Original Data'!$U$30) -> 0.3085443 | E30: =('Original Data'!E30-'Original Data'!$U$30)/('Original Data'!$V$30-'Original Data'!$U$30) -> 0.089662447 | F30: =('Original Data'!F30-'Original Data'!$U$30)/('Original Data'!$V$30-'Original Data'!$U$30) -> 0.31276371 | G30: =('Original Data'!G30-'Original Data'!$U$30)/('Original Data'!$V$30-'Original Data'!$U$30) -> 0.098628692 | H30: =('Original Data'!H30-'Original Data'!$U$30)/('Original Data'!$V$30-'Original Data'!$U$30) -> 1 | I30: =('Original Data'!I30-'Original Data'!$U$30)/('Original Data'!$V$30-'Original Data'!$U$30) -> 0.31487342 | J30: =('Original Data'!J30-'Original Data'!$U$30)/('Original Data'!$V$30-'Original Data'!$U$30) -> 0.80748945 | K30: =('Original Data'!K30-'Original Data'!$U$30)/('Original Data'!$V$30-'Original Data'!$U$30) -> 0.44883966 | ... T30: =('Original Data'!T30-'Original Data'!$U$30)/('Original Data'!$V$30-'Original Data'!$U$30) -> 0.16613924 | U30: =MIN(D30:T30) -> 0 | V30: =MAX(D30:T30) -> 1
B31: Logistic performance index quality of trade and transport related infrastructure | C31: Higher | D31: =('Original Data'!D31-'Original Data'!$U$31)/('Original Data'!$V$31-'Original Data'!$U$31) -> 0.47058824 | E31: =('Original Data'!E31-'Original Data'!$U$31)/('Original Data'!$V$31-'Original Data'!$U$31) -> 0.70588235 | F31: =('Original Data'!F31-'Original Data'!$U$31)/('Original Data'!$V$31-'Original Data'!$U$31) -> 0.64705882 | G31: =('Original Data'!G31-'Original Data'!$U$31)/('Original Data'!$V$31-'Original Data'!$U$31) -> 0.64705882 | H31: =('Original Data'!H31-'Original Data'!$U$31)/('Original Data'!$V$31-'Original Data'!$U$31) -> 0.94117647 | I31: =('Original Data'!I31-'Original Data'!$U$31)/('Original Data'!$V$31-'Original Data'!$U$31) -> 0.23529412 | J31: =('Original Data'!J31-'Original Data'!$U$31)/('Original Data'!$V$31-'Original Data'!$U$31) -> 0.70588235 | K31: =('Original Data'!K31-'Original Data'!$U$31)/('Original Data'!$V$31-'Original Data'!$U$31) -> 0.82352941 | ... T31: =('Original Data'!T31-'Original Data'!$U$31)/('Original Data'!$V$31-'Original Data'!$U$31) -> 0.29411765 | U31: =MIN(D31:T31) -> 0 | V31: =MAX(D31:T31) -> 1
B32: Competence and quality of logistic services 2022 | C32: Higher | D32: =('Original Data'!D32-'Original Data'!$U$32)/('Original Data'!$V$32-'Original Data'!$U$32) -> 0 | E32: =('Original Data'!E32-'Original Data'!$U$32)/('Original Data'!$V$32-'Original Data'!$U$32) -> 0.71428571 | F32: =('Original Data'!F32-'Original Data'!$U$32)/('Original Data'!$V$32-'Original Data'!$U$32) -> 0.78571429 | G32: =('Original Data'!G32-'Original Data'!$U$32)/('Original Data'!$V$32-'Original Data'!$U$32) -> 0.92857143 | H32: =('Original Data'!H32-'Original Data'!$U$32)/('Original Data'!$V$32-'Original Data'!$U$32) -> 1 | I32: =('Original Data'!I32-'Original Data'!$U$32)/('Original Data'!$V$32-'Original Data'!$U$32) -> 0.21428571 | J32: =('Original Data'!J32-'Original Data'!$U$32)/('Original Data'!$V$32-'Original Data'!$U$32) -> 0.57142857 | K32: =('Original Data'!K32-'Original Data'!$U$32)/('Original Data'!$V$32-'Original Data'!$U$32) -> 1 | ... T32: =('Original Data'!T32-'Original Data'!$U$32)/('Original Data'!$V$32-'Original Data'!$U$32) -> 0.21428571 | U32: =MIN(D32:T32) -> 0 | V32: =MAX(D32:T32) -> 1
A33: Logistic & infrastructure | B33: Efficiency of customs clearance process 2022 | C33: Higher | D33: =('Original Data'!D33-'Original Data'!$U$33)/('Original Data'!$V$33-'Original Data'!$U$33) -> 0.33333333 | E33: =('Original Data'!E33-'Original Data'!$U$33)/('Original Data'!$V$33-'Original Data'!$U$33) -> 0.8 | F33: =('Original Data'!F33-'Original Data'!$U$33)/('Original Data'!$V$33-'Original Data'!$U$33) -> 0.73333333 | G33: =('Original Data'!G33-'Original Data'!$U$33)/('Original Data'!$V$33-'Original Data'!$U$33) -> 0.73333333 | H33: =('Original Data'!H33-'Original Data'!$U$33)/('Original Data'!$V$33-'Original Data'!$U$33) -> 0.86666667 | I33: =('Original Data'!I33-'Original Data'!$U$33)/('Original Data'!$V$33-'Original Data'!$U$33) -> 0.46666667 | J33: =('Original Data'!J33-'Original Data'!$U$33)/('Original Data'!$V$33-'Original Data'!$U$33) -> 0.53333333 | K33: =('Original Data'!K33-'Original Data'!$U$33)/('Original Data'!$V$33-'Original Data'!$U$33) -> 0.93333333 | ... T33: =('Original Data'!T33-'Original Data'!$U$33)/('Original Data'!$V$33-'Original Data'!$U$33) -> 0.33333333 | U33: =MIN(D33:T33) -> 0 | V33: =MAX(D33:T33) -> 1
B34: Quality of railroad infrastructure 2019 | C34: Higher | D34: =('Original Data'!D34-'Original Data'!$U$34)/('Original Data'!$V$34-'Original Data'!$U$34) -> 0 | E34: =('Original Data'!E34-'Original Data'!$U$34)/('Original Data'!$V$34-'Original Data'!$U$34) -> 0.55882353 | F34: =('Original Data'!F34-'Original Data'!$U$34)/('Original Data'!$V$34-'Original Data'!$U$34) -> 0.35294118 | G34: =('Original Data'!G34-'Original Data'!$U$34)/('Original Data'!$V$34-'Original Data'!$U$34) -> 0.97058824 | H34: =('Original Data'!H34-'Original Data'!$U$34)/('Original Data'!$V$34-'Original Data'!$U$34) -> 0.55882353 | I34: =('Original Data'!I34-'Original Data'!$U$34)/('Original Data'!$V$34-'Original Data'!$U$34) -> 0.79411765 | J34: =('Original Data'!J34-'Original Data'!$U$34)/('Original Data'!$V$34-'Original Data'!$U$34) -> 0.76470588 | K34: =('Original Data'!K34-'Original Data'!$U$34)/('Original Data'!$V$34-'Original Data'!$U$34) -> 1 | ... T34: =('Original Data'!T34-'Original Data'!$U$34)/('Original Data'!$V$34-'Original Data'!$U$34) -> 0.88235294 | U34: =MIN(D34:T34) -> 0 | V34: =MAX(D34:T34) -> 1
B35: Quality of road infrastructure 2019 | C35: Higher | D35: =('Original Data'!D35-'Original Data'!$U$35)/('Original Data'!$V$35-'Original Data'!$U$35) -> 0.43333333 | E35: =('Original Data'!E35-'Original Data'!$U$35)/('Original Data'!$V$35-'Original Data'!$U$35) -> 0.26666667 | F35: =('Original Data'!F35-'Original Data'!$U$35)/('Original Data'!$V$35-'Original Data'!$U$35) -> 1 | G35: =('Original Data'!G35-'Original Data'!$U$35)/('Original Data'!$V$35-'Original Data'!$U$35) -> 0.43333333 | H35: =('Original Data'!H35-'Original Data'!$U$35)/('Original Data'!$V$35-'Original Data'!$U$35) -> 0.7 | I35: =('Original Data'!I35-'Original Data'!$U$35)/('Original Data'!$V$35-'Original Data'!$U$35) -> 0.4 | J35: =('Original Data'!J35-'Original Data'!$U$35)/('Original Data'!$V$35-'Original Data'!$U$35) -> 0.46666667 | K35: =('Original Data'!K35-'Original Data'!$U$35)/('Original Data'!$V$35-'Original Data'!$U$35) -> 0.33333333 | ... T35: =('Original Data'!T35-'Original Data'!$U$35)/('Original Data'!$V$35-'Original Data'!$U$35) -> 0.13333333 | U35: =MIN(D35:T35) -> 0 | V35: =MAX(D35:T35) -> 1
B36: Quallity of port infrastructure 2019 For landlocked countries, access to port facilities and inland waterways | C36: Higher | D36: =('Original Data'!D36-'Original Data'!$U$36)/('Original Data'!$V$36-'Original Data'!$U$36) -> 0.60606061 | E36: =('Original Data'!E36-'Original Data'!$U$36)/('Original Data'!$V$36-'Original Data'!$U$36) -> 0.60606061 | F36: =('Original Data'!F36-'Original Data'!$U$36)/('Original Data'!$V$36-'Original Data'!$U$36) -> 0.72727273 | G36: =('Original Data'!G36-'Original Data'!$U$36)/('Original Data'!$V$36-'Original Data'!$U$36) -> 0.27272727 | H36: =('Original Data'!H36-'Original Data'!$U$36)/('Original Data'!$V$36-'Original Data'!$U$36) -> 1 | I36: =('Original Data'!I36-'Original Data'!$U$36)/('Original Data'!$V$36-'Original Data'!$U$36) -> 0.45454545 | J36: =('Original Data'!J36-'Original Data'!$U$36)/('Original Data'!$V$36-'Original Data'!$U$36) -> 0.27272727 | K36: =('Original Data'!K36-'Original Data'!$U$36)/('Original Data'!$V$36-'Original Data'!$U$36) -> 0.78787879 | ... T36: =('Original Data'!T36-'Original Data'!$U$36)/('Original Data'!$V$36-'Original Data'!$U$36) -> 0.48484848 | U36: =MIN(D36:T36) -> 0 | V36: =MAX(D36:T36) -> 1
B37: Quality air transport infrastructure 2019 | C37: Higher | D37: =('Original Data'!D37-'Original Data'!$U$37)/('Original Data'!$V$37-'Original Data'!$U$37) -> 0.15789474 | E37: =('Original Data'!E37-'Original Data'!$U$37)/('Original Data'!$V$37-'Original Data'!$U$37) -> 0.36842105 | F37: =('Original Data'!F37-'Original Data'!$U$37)/('Original Data'!$V$37-'Original Data'!$U$37) -> 0.52631579 | G37: =('Original Data'!G37-'Original Data'!$U$37)/('Original Data'!$V$37-'Original Data'!$U$37) -> 0.63157895 | H37: =('Original Data'!H37-'Original Data'!$U$37)/('Original Data'!$V$37-'Original Data'!$U$37) -> 0.42105263 | I37: =('Original Data'!I37-'Original Data'!$U$37)/('Original Data'!$V$37-'Original Data'!$U$37) -> 0.31578947 | J37: =('Original Data'!J37-'Original Data'!$U$37)/('Original Data'!$V$37-'Original Data'!$U$37) -> 0.42105263 | K37: =('Original Data'!K37-'Original Data'!$U$37)/('Original Data'!$V$37-'Original Data'!$U$37) -> 1 | ... T37: =('Original Data'!T37-'Original Data'!$U$37)/('Original Data'!$V$37-'Original Data'!$U$37) -> 0.10526316 | U37: =MIN(D37:T37) -> 0 | V37: =MAX(D37:T37) -> 1
B38: Banking system z score | C38: higher | D38: =('Original Data'!D38-'Original Data'!$U$38)/('Original Data'!$V$38-'Original Data'!$U$38) -> 1 | E38: =('Original Data'!E38-'Original Data'!$U$38)/('Original Data'!$V$38-'Original Data'!$U$38) -> 0.23198353 | F38: =('Original Data'!F38-'Original Data'!$U$38)/('Original Data'!$V$38-'Original Data'!$U$38) -> 0.19903912 | G38: =('Original Data'!G38-'Original Data'!$U$38)/('Original Data'!$V$38-'Original Data'!$U$38) -> 0.40150995 | H38: =('Original Data'!H38-'Original Data'!$U$38)/('Original Data'!$V$38-'Original Data'!$U$38) -> 0.26973233 | I38: =('Original Data'!I38-'Original Data'!$U$38)/('Original Data'!$V$38-'Original Data'!$U$38) -> 0.23472889 | J38: =('Original Data'!J38-'Original Data'!$U$38)/('Original Data'!$V$38-'Original Data'!$U$38) -> 0.17707618 | K38: =('Original Data'!K38-'Original Data'!$U$38)/('Original Data'!$V$38-'Original Data'!$U$38) -> 0.17982155 | ... T38: =('Original Data'!T38-'Original Data'!$U$38)/('Original Data'!$V$38-'Original Data'!$U$38) -> 0.047357584 | U38: =MIN(D38:T38) -> 0 | V38: =MAX(D38:T38) -> 1
B39: Bank liquid assets to deposits and short-term funding, 2021 | C39: higher | D39: =('Original Data'!D39-'Original Data'!$U$39)/('Original Data'!$V$39-'Original Data'!$U$39) -> 0.85630499 | E39: =('Original Data'!E39-'Original Data'!$U$39)/('Original Data'!$V$39-'Original Data'!$U$39) -> 0.58876607 | F39: =('Original Data'!F39-'Original Data'!$U$39)/('Original Data'!$V$39-'Original Data'!$U$39) -> 0.75885405 | G39: =('Original Data'!G39-'Original Data'!$U$39)/('Original Data'!$V$39-'Original Data'!$U$39) -> 0.55064291 | H39: =('Original Data'!H39-'Original Data'!$U$39)/('Original Data'!$V$39-'Original Data'!$U$39) -> 0.33273178 | I39: =('Original Data'!I39-'Original Data'!$U$39)/('Original Data'!$V$39-'Original Data'!$U$39) -> 0.23144597 | J39: =('Original Data'!J39-'Original Data'!$U$39)/('Original Data'!$V$39-'Original Data'!$U$39) -> 0.6568915 | K39: =('Original Data'!K39-'Original Data'!$U$39)/('Original Data'!$V$39-'Original Data'!$U$39) -> 0.82043763 | ... T39: =('Original Data'!T39-'Original Data'!$U$39)/('Original Data'!$V$39-'Original Data'!$U$39) -> 0.68215655 | U39: =MIN(D39:T39) -> 0 | V39: =MAX(D39:T39) -> 1
A40: Financial stability | B40: Non-performing loans as percent of all bank loans, 2021 | C40: lower | D40: =('Original Data'!$V$40-'Original Data'!D40)/('Original Data'!$V$40-'Original Data'!$U$40) -> 0.84363986 | E40: =('Original Data'!$V$40-'Original Data'!E40)/('Original Data'!$V$40-'Original Data'!$U$40) -> 0.83050304 | F40: =('Original Data'!$V$40-'Original Data'!F40)/('Original Data'!$V$40-'Original Data'!$U$40) -> 0.83370715 | G40: =('Original Data'!$V$40-'Original Data'!G40)/('Original Data'!$V$40-'Original Data'!$U$40) -> 0.96123037 | H40: =('Original Data'!$V$40-'Original Data'!H40)/('Original Data'!$V$40-'Original Data'!$U$40) -> 0.98141621 | I40: =('Original Data'!$V$40-'Original Data'!I40)/('Original Data'!$V$40-'Original Data'!$U$40) -> 0.95610381 | J40: =('Original Data'!$V$40-'Original Data'!J40)/('Original Data'!$V$40-'Original Data'!$U$40) -> 0.89907081 | K40: =('Original Data'!$V$40-'Original Data'!K40)/('Original Data'!$V$40-'Original Data'!$U$40) -> 0.93719962 | ... T40: =('Original Data'!$V$40-'Original Data'!T40)/('Original Data'!$V$40-'Original Data'!$U$40) -> 0 | U40: =MIN(D40:T40) -> 0 | V40: =MAX(D40:T40) -> 1
...

Sheet Correlation
B1: ERICDA | C1: Economic complexity | D1: Foreign trade vulnerabilities and dependence | E1: Energy dependence | F1: Economic openess | G1: Logistics & infrastructure | H1: Economic stability and development | I1: Innovation and IT | J1: Human capital | K1: Governance effectiveness | L1: Military
A2: ERICDA | B2: 1
A3: Economic complexity | B3: 0.82142398 | C3: 1
A4: Foreign trade vulnerabilities and dependence | B4: 0.79411826 | C4: 0.57449181 | D4: 1
A5: Energy dependence | B5: 0.255243 | C5: 0.084567989 | D5: 0.39163374 | E5: 1
A6: Economic openess | B6: -0.35250503 | C6: -0.52319354 | D6: -0.20589201 | E6: 0.49248818 | F6: 1
A7: Logistics & infrastructure | B7: 0.84486342 | C7: 0.67050558 | D7: 0.6513781 | E7: -0.10303866 | F7: -0.53916422 | G7: 1
A8: Economic stability and development | B8: 0.77807885 | C8: 0.65824131 | D8: 0.68263676 | E8: -0.10925186 | F8: -0.51994024 | G8: 0.73818665 | H8: 1
A9: Innovation and IT | B9: 0.69323703 | C9: 0.63632441 | D9: 0.39520497 | E9: -0.30492841 | F9: -0.57165059 | G9: 0.63748248 | H9: 0.68321666 | I9: 1
A10: Human capital | B10: 0.72132729 | C10: 0.67197423 | D10: 0.46555684 | E10: -0.0061012427 | F10: -0.50184044 | G10: 0.53893812 | H10: 0.48119398 | I10: 0.62810127 | J10: 1
A11: Governance effectiveness | B11: 0.76081411 | C11: 0.62282325 | D11: 0.47106947 | E11: -0.33719093 | F11: -0.63576564 | G11: 0.89825513 | H11: 0.76723975 | I11: 0.74464942 | J11: 0.63543073 | K11: 1
A12: Military | B12: 0.72891661 | C12: 0.46541375 | D12: 0.6400533 | E12: 0.60968481 | F12: -0.1249793 | G12: 0.55852656 | H12: 0.46139145 | I12: 0.23631326 | J12: 0.38682173 | K12: 0.31804832 | L12: 1

Sheet Index calculation
